BEGIN:VCALENDAR
VERSION:2.0
PRODID:icalendar-ruby
CALSCALE:GREGORIAN
METHOD:PUBLISH
BEGIN:VEVENT
DTSTAMP:20260425T103329Z
UID:71-327159@lfccnj.com
DTSTART:20260507T150000Z
DTEND:20260508T000000Z
CLASS:PUBLIC
CREATED:20260422T155458
DESCRIPTION: \nWe are excited and delighted to be apart of the 2026 Nation
 al Day of Prayer and ask that you plan to join in pray on Thursday\, May 7
 th. In-person from 11 am to 1:00 pm at LFCC. The church will be open if yo
 u would like to come by and pray or join us online for one hour via Zoom a
 t 7:00pm. The theme is “Glorify God Among the Nations\, Seeking Him in A
 ll Generations.”\n \nLFCCNJ is inviting you to a scheduled Zoom meeting
 .\nTopic: National Day Of Prayer Meeting\nTime: May 7\, 2026 07:00 PM East
 ern Time (US and Canada)\nJoin Zoom Meeting\nhttps://us06web.zoom.us/j/347
 3967644?pwd=WXlMV1hSZUdzVC9Ia3l4emN2Y05JZz09&amp\;omn=83025783946\nMeeting
  ID: 347 396 7644\nPasscode: PRAYER\n---\nOne tap mobile\n+16465588656\,\,
 3473967644#\,\,\,\,*418621# US (New York)\n+16469313860\,\,3473967644#\,\,
 \,\,*418621# US\n\n---\nJoin by SIP\n• 3473967644@zoomcrc.com\nJoin inst
 ructions\nhttps://us06web.zoom.us/meetings/83025783946/invitations?signatu
 re=CYl-VZNnT1R8hhPGumb8hsDvPOtjqRXuX6zYdvneHYI\n 
LAST-MODIFIED:20260422T155458
LOCATION:
SUMMARY:National Day of Prayer
URL;VALUE=URI:https://www.lfccnj.com/events/national-day-of-prayer--71/2026
 -05-07
ATTACH;FILENAME=2026-NDP-PowerPoint-Slide-copy.jpg;FMTTYPE=image/jpeg:https
 ://dq5pwpg1q8ru0.cloudfront.net/2026/04/20/01/02/42/02ae0079-bdab-4ec8-ac5
 8-1cec525eb49a/2026-NDP-PowerPoint-Slide-copy.jpg
END:VEVENT
END:VCALENDAR
