BEGIN:VCALENDAR
VERSION:2.0
PRODID:icalendar-ruby
CALSCALE:GREGORIAN
METHOD:PUBLISH
BEGIN:VEVENT
DTSTAMP:20260422T184053Z
UID:70-322996@lfccnj.com
DTSTART:20260509T140000Z
DTEND:20260509T163000Z
CLASS:PUBLIC
CREATED:20260419T204259
DESCRIPTION:Women of Virtue! You are invited to a Mother’s Day celebratio
 n entitled: “Crowned in Dominion: A Mother’s Day Experience” where y
 ou will be encouraged to\n\nStep into your divine identity. Own your beaut
 y. And Walk in your authenticity.\n\nIsaiah 62:3 says…“You shall be a 
 crown of beauty in the hand of the Lord\, and a royal “tiara” in the h
 and of your God.” Grace and royalty are within every woman. Come out and
  celebrate with us.\nJoin us for an uplifting celebration honoring the str
 ength\, grace\, and royalty within every woman. This experience will inclu
 de a fashion segment\, a delicious brunch\, words of encouragement\, self-
 care tips\, and so much more.\nAll women ages 18 and older are invited to 
 attend. Registration is required no later than Sunday\, May 3rd. Please Re
 gister Below.\nFor more information or any questions\, please call the chu
 rch at (856) 661-8110 to leave a message for Elder Ida Misher.
LAST-MODIFIED:20260419T204259
LOCATION:
SUMMARY:Crowned in Dominion: A Mother’s Day Experience
URL;VALUE=URI:https://www.lfccnj.com/events/crowned-in-dominion-a-mother-s-
 day-experience/2026-05-09
ATTACH;FILENAME=womans.jpg;FMTTYPE=image/jpeg:https://dq5pwpg1q8ru0.cloudfr
 ont.net/2026/04/20/00/40/55/db367b44-f692-4bfa-a788-1d13328fbe71/womans.jp
 g
END:VEVENT
END:VCALENDAR
